BEGIN:VCALENDAR
VERSION:2.0
PRODID:icalendar-ruby
CALSCALE:GREGORIAN
METHOD:PUBLISH
BEGIN:VEVENT
DTSTAMP:20260425T023759Z
UID:20-361769@broadwayunitedmethodist.com
DTSTART:20261005T233000Z
DTEND:20261006T003000Z
CLASS:PUBLIC
CREATED:20260424T185619
DESCRIPTION:Bibles at Barleys is a book by book Bible study for the over 21
  crowd.  Meeting on Mondays at 6:30 PMin the tap room at Barleys Bar\, th
 is group focuses conversations around a selected book of the Bible.\nBarle
 ys Bar - 114 W. Broadway - is just across the street from the church (nort
 h and west) in Council Bluffs historic 100 Block.\n 
LAST-MODIFIED:20260424T185619
LOCATION:Offsite (see details)
SUMMARY:Bibles at Barleys
URL;VALUE=URI:https://broadwayunitedmethodist.com/events/bibles-at-barleys/
 2026-10-05
ATTACH;FILENAME=Bibles-at-Baleys.png;FMTTYPE=image/png:https://dq5pwpg1q8ru
 0.cloudfront.net/2025/08/26/17/27/59/75b1eee5-50c5-4606-80e9-e06513f0e85a/
 Bibles-at-Baleys.png
END:VEVENT
END:VCALENDAR
