BEGIN:VCALENDAR
VERSION:2.0
PRODID:icalendar-ruby
CALSCALE:GREGORIAN
METHOD:PUBLISH
BEGIN:VEVENT
DTSTAMP:20260425T022937Z
UID:24-361889@broadwayunitedmethodist.com
DTSTART:20261007T210000Z
DTEND:20261007T230000Z
CLASS:PUBLIC
CREATED:20260424T185619
DESCRIPTION:Philip's Cupboard Open is a local non-food pantry that provides
  paper products and cleaning and hygiene supplies.  Visits are allowed ev
 ery 60 days and proof of Pottawattamie County residency required.\nOpen Mo
 ndays and Fridays from 12-2 PM and Wednesdays from 4-6 PM\nPhilip's Cupboa
 rd will be close on holidays or if the schools close due to weather closin
 gs.\n[Image from MabelAmber on [Pixabay]
LAST-MODIFIED:20260424T185619
LOCATION:BUMC B03
SUMMARY:Philip's Cupboard Open
URL;VALUE=URI:https://broadwayunitedmethodist.com/events/philips-cupboard-o
 pen--22/2026-10-07
ATTACH;FILENAME=kitchen-towel-3491910_1280.jpg;FMTTYPE=image/jpeg:https://d
 q5pwpg1q8ru0.cloudfront.net/2025/08/26/18/16/03/caecb9e8-be21-49ea-b1a7-d9
 31d09187b6/kitchen-towel-3491910_1280.jpg
END:VEVENT
END:VCALENDAR
